BEGIN:VCALENDAR
VERSION:2.0
PRODID:-//Cornerstone Real Estate - ECPv5.14.0.1//NONSGML v1.0//EN
CALSCALE:GREGORIAN
METHOD:PUBLISH
X-WR-CALNAME:Cornerstone Real Estate
X-ORIGINAL-URL:https://yourcornerstonerealty.com
X-WR-CALDESC:Events for Cornerstone Real Estate
BEGIN:VTIMEZONE
TZID:UTC
BEGIN:STANDARD
TZOFFSETFROM:+0000
TZOFFSETTO:+0000
TZNAME:UTC
DTSTART:20160101T000000
END:STANDARD
END:VTIMEZONE
BEGIN:VEVENT
DTSTART;TZID=UTC:20160829T173000
DTEND;TZID=UTC:20160829T193000
DTSTAMP:20260420T085657
CREATED:20160812T174422Z
LAST-MODIFIED:20160812T174422Z
UID:1065-1472491800-1472499000@yourcornerstonerealty.com
SUMMARY:August Networking Event
DESCRIPTION:Come join us and bring lots of business cards at our August Networking Event at the Greene Turtle in Locust Point.  Light Fare will be provided.
URL:https://yourcornerstonerealty.com/event/august-networking-event/
LOCATION:Greene Turtle\, Whetstone Way\, Baltimore\, MD\, 21230\, United States
CATEGORIES:Networking Event
ORGANIZER;CN="Cornerstone%20Realty":MAILTO:kevina314@aol.com
END:VEVENT
END:VCALENDAR